BEGIN:VCALENDAR
VERSION:2.0
PRODID:-//Ben Halsall - ECPv6.15.20//NONSGML v1.0//EN
CALSCALE:GREGORIAN
METHOD:PUBLISH
X-WR-CALNAME:Ben Halsall
X-ORIGINAL-URL:https://benhalsall.com
X-WR-CALDESC:Events for Ben Halsall
REFRESH-INTERVAL;VALUE=DURATION:PT1H
X-Robots-Tag:noindex
X-PUBLISHED-TTL:PT1H
BEGIN:VTIMEZONE
TZID:America/Chicago
BEGIN:DAYLIGHT
TZOFFSETFROM:-0600
TZOFFSETTO:-0500
TZNAME:CDT
DTSTART:20150308T080000
END:DAYLIGHT
BEGIN:STANDARD
TZOFFSETFROM:-0500
TZOFFSETTO:-0600
TZNAME:CST
DTSTART:20151101T070000
END:STANDARD
BEGIN:DAYLIGHT
TZOFFSETFROM:-0600
TZOFFSETTO:-0500
TZNAME:CDT
DTSTART:20160313T080000
END:DAYLIGHT
BEGIN:STANDARD
TZOFFSETFROM:-0500
TZOFFSETTO:-0600
TZNAME:CST
DTSTART:20161106T070000
END:STANDARD
BEGIN:DAYLIGHT
TZOFFSETFROM:-0600
TZOFFSETTO:-0500
TZNAME:CDT
DTSTART:20170312T080000
END:DAYLIGHT
BEGIN:STANDARD
TZOFFSETFROM:-0500
TZOFFSETTO:-0600
TZNAME:CST
DTSTART:20171105T070000
END:STANDARD
BEGIN:DAYLIGHT
TZOFFSETFROM:-0600
TZOFFSETTO:-0500
TZNAME:CDT
DTSTART:20180311T080000
END:DAYLIGHT
BEGIN:STANDARD
TZOFFSETFROM:-0500
TZOFFSETTO:-0600
TZNAME:CST
DTSTART:20181104T070000
END:STANDARD
END:VTIMEZONE
BEGIN:VEVENT
DTSTART;VALUE=DATE:20171108
DTEND;VALUE=DATE:20171110
DTSTAMP:20260423T112720
CREATED:20170620T175719Z
LAST-MODIFIED:20170914T000852Z
UID:4389-1510099200-1510271999@benhalsall.com
SUMMARY:Adobe InDesign: Essentials - Saskatoon | 8-9 November
DESCRIPTION:If you are new to Adobe InDesign then this instructor led two day course is for you. With hands-on lessons you will quickly be up and running and ready to create designs for print and the web. So whether you need to create your own designs from scratch or work with templates designed by other graphic designers this class has it all. \nAdobe InDesign: Essentials introduces the key concepts and skills you will need. You will learn to create documents\, work effectively with type\, design your own layouts\, place images and prepare your designs for outputting for print\, make PDFs as well as how to output your designs for the web and social media. \nSo whether you are designing annual reports\, flyers\, newsletters or need to create designs for your online social media presence on Facebook or Twitter then check out the course outline below. \nAsk me anything about Adobe InDesign: Essentials or request a quote. \nFind out what people say about working with Ben on the testimonials page. \nCourse Outline\nLesson 1 – Introduction to the Interface \nLesson 2 – Creating a new project \nLesson 3 – Introduction to working with Graphic\, Text & Image objects \nLesson 4 – Formatting Paragraphs & Type \nLesson 5 – Placing Images & Wrapping Text \nLesson 6 – Working with Columns and Multiple Text Frames \nLesson 7 – Paragraph & Character Styles \nLesson 8 – Creating Lists \nLesson 9 – Working with Tables \nLesson 10 – Making Selections\, Copying and Pasting Objects \nLesson 11 – Resizing and Rotating Objects \nLesson 12 – Creating Custom Designs \nLesson 13 – Combining\, Manipulating & Editing Shapes \nLesson 14 – Groups & Layers \nLesson 15 – Working with Type in Your Designs \nLesson 16 – Creating Clean Layouts and Designs by Using Rulers & Guides \nLesson 17 – Advanced Colour & Gradient Fills \nLesson 18 – Placing Photographic Images Inside Designs \nLesson 19 – Print Essentials – Creating & Preparing Designs for Print Output \nLesson 20 – Preparing and Outputting Images for the Web & Social Media \nLesson 21 – Working with and Creating PDFs \nLesson 22 – Backing Up & Saving Your Projects \n\nAsk Me Anything About Adobe InDesign Essentials\nYou can send me an e-mail at design@benhalsall.com or use the form below. I look forward to hearing from you. \n\n\n  \n\n\n\nGet in touch\n\nYour Name\n\n\n \nYour Email\n\n\n \nYour Location\n\nWherever you are I am happy to provide a quote. I am based in Kelowna but can easily provide a quote for classes across Canada. Over the past few years I have taught in-house classes in Ottawa\, Regina\, Vancouver\, Calgary & Montréal.\n \n\n \nYour Phone Number\n\nOften its quicker to answer your questions about training & other projects over the phone.\n \n\n \nWhat would you like to ask me about?\n\nPlease SelectPhotoshop TrainingInDesign TrainingPremiere Pro TrainingFinal Cut Pro X TrainingIn House TrainingScheduled ClassesVideo EditingVideo ProductionSomething else...\n \nSign up to for course info & schedule.\n\nSign Me UpNo Thanks\n \nYour Message
URL:https://benhalsall.com/event/adobe-indesign-essentials/
LOCATION:Saskatoon\, Downtown\, Saskatoon\, SK\, Canada
CATEGORIES:Adobe InDesign
ATTACH;FMTTYPE=image/jpeg:https://benhalsall.com/wp-content/uploads/2017/06/saskatoon.jpg
END:VEVENT
BEGIN:VEVENT
DTSTART;VALUE=DATE:20171010
DTEND;VALUE=DATE:20171012
DTSTAMP:20260423T112720
CREATED:20170620T182911Z
LAST-MODIFIED:20170620T182803Z
UID:4404-1507593600-1507766399@benhalsall.com
SUMMARY:Adobe InDesign: Essentials - Saskatoon | 11 to 12 October #YXE
DESCRIPTION:If you are new to Adobe InDesign then this instructor led two day course is for you. With hands-on lessons you will quickly be up and running and ready to create designs for print and the web. So whether you need to create your own designs from scratch or work with templates designed by other graphic designers this class has it all. \nAdobe InDesign: Essentials introduces the key concepts and skills you will need. You will learn to create documents\, work effectively with type\, design your own layouts\, place images and prepare your designs for outputting for print\, make PDFs as well as how to output your designs for the web and social media. \nSo whether you are designing annual reports\, flyers\, newsletters or need to create designs for your online social media presence on Facebook or Twitter then check out the course outline below. \nAsk me anything about Adobe InDesign: Essentials or request a quote. \nFind out what people say about working with Ben on the testimonials page. \nCourse Outline\nLesson 1 – Introduction to the Interface \nLesson 2 – Creating a new project \nLesson 3 – Introduction to working with Graphic\, Text & Image objects \nLesson 4 – Formatting Paragraphs & Type \nLesson 5 – Placing Images & Wrapping Text \nLesson 6 – Working with Columns and Multiple Text Frames \nLesson 7 – Paragraph & Character Styles \nLesson 8 – Creating Lists \nLesson 9 – Working with Tables \nLesson 10 – Making Selections\, Copying and Pasting Objects \nLesson 11 – Resizing and Rotating Objects \nLesson 12 – Creating Custom Designs \nLesson 13 – Combining\, Manipulating & Editing Shapes \nLesson 14 – Groups & Layers \nLesson 15 – Working with Type in Your Designs \nLesson 16 – Creating Clean Layouts and Designs by Using Rulers & Guides \nLesson 17 – Advanced Colour & Gradient Fills \nLesson 18 – Placing Photographic Images Inside Designs \nLesson 19 – Print Essentials – Creating & Preparing Designs for Print Output \nLesson 20 – Preparing and Outputting Images for the Web & Social Media \nLesson 21 – Working with and Creating PDFs \nLesson 22 – Backing Up & Saving Your Projects \n\nAsk Me Anything About Adobe InDesign Essentials\nYou can send me an e-mail at design@benhalsall.com or use the form below. I look forward to hearing from you. \n\n\n  \n\n\n\nGet in touch\n\nYour Name\n\n\n \nYour Email\n\n\n \nYour Location\n\nWherever you are I am happy to provide a quote. I am based in Kelowna but can easily provide a quote for classes across Canada. Over the past few years I have taught in-house classes in Ottawa\, Regina\, Vancouver\, Calgary & Montréal.\n \n\n \nYour Phone Number\n\nOften its quicker to answer your questions about training & other projects over the phone.\n \n\n \nWhat would you like to ask me about?\n\nPlease SelectPhotoshop TrainingInDesign TrainingPremiere Pro TrainingFinal Cut Pro X TrainingIn House TrainingScheduled ClassesVideo EditingVideo ProductionSomething else...\n \nSign up to for course info & schedule.\n\nSign Me UpNo Thanks\n \nYour Message
URL:https://benhalsall.com/event/adobe-indesign-essentials-saskatoon-11-12-october/
LOCATION:Saskatoon\, Downtown\, Saskatoon\, SK\, Canada
CATEGORIES:Adobe InDesign
ATTACH;FMTTYPE=image/jpeg:https://benhalsall.com/wp-content/uploads/2017/06/saskatoon.jpg
END:VEVENT
BEGIN:VEVENT
DTSTART;VALUE=DATE:20170419
DTEND;VALUE=DATE:20170420
DTSTAMP:20260423T112720
CREATED:20170128T212219Z
LAST-MODIFIED:20170128T212307Z
UID:3577-1492560000-1492646399@benhalsall.com
SUMMARY:InDesign CS6 Level 2
DESCRIPTION:COURSE DESCRIPTION\nIn this course\, you will learn advanced InDesign techniques to enhance the look and functionality of your documents. \nPREREQUISITES\nAdobe® InDesign® CS6: Level 1\, or have the equivalent knowledge. \nCOURSE OBJECTIVE\nYou can create interactive documents and export them for viewing in a web browser with various features such as buttons\, page transitions\, movies and audio files\, hyperlinks and animation. You have the ability to assign color profiles and establish print presets. In creating longer documents\, you’ll be able to include such features as a table of contents\, footnotes\, cross-references and an index.
URL:https://benhalsall.com/event/indesign-cs6-level-april-2017/
LOCATION:SK
CATEGORIES:Adobe InDesign
END:VEVENT
BEGIN:VEVENT
DTSTART;VALUE=DATE:20170206
DTEND;VALUE=DATE:20170208
DTSTAMP:20260423T112720
CREATED:20170128T174544Z
LAST-MODIFIED:20170128T175649Z
UID:3498-1486339200-1486511999@benhalsall.com
SUMMARY:InDesign CS6 Level 1
DESCRIPTION:COURSE DESCRIPTION\nIn this course\, you will work with the tools and features to create eye-catching printed documents using InDesign CS6. \nPREREQUISITES\nBefore taking this course\, students should be familiar with the functions of their computer’s operating system such as creating folders\, launching programs\, copying and pasting objects\, formatting text\, and retrieving and saving files. Familiarity with other Adobe software applications is helpful\, but not required. \nCOURSE OBJECTIVE\nUpon successful completion of this course\, students will be able to: \n\nCreate and deliver professional-looking printed and digital documents\nIdentify the elements of the InDesign interface.\nCreate a new document.\nCustomize a document by using graphics\, colors\, and styles.\nManage page elements.\nBuild a table.\nPrepare a document for delivery\n\n  \nGET IN TOUCH \nError: Contact form not found.
URL:https://benhalsall.com/event/indesign-cs6-level-1-2/
LOCATION:Downtown Regina\, Regina\, Canada
CATEGORIES:Adobe InDesign
END:VEVENT
BEGIN:VEVENT
DTSTART;VALUE=DATE:20161220
DTEND;VALUE=DATE:20161222
DTSTAMP:20260423T112720
CREATED:20161015T153637Z
LAST-MODIFIED:20161010T174101Z
UID:3031-1482192000-1482364799@benhalsall.com
SUMMARY:InDesign CS6 Level 1 – 20th & 21st December 2016 #yqr #training #yxe #sask
DESCRIPTION:Course Description\nIn this course\, you will work with the tools and features to create eye-catching printed documents using InDesign CS6. \nPre-requisites\n\n\n\nBefore taking this course\, students should be familiar with the functions of their computer’s operating system such as creating folders\, launching programs\, copying and pasting objects\, formatting text\, and retrieving and saving files. Familiarity with other Adobe software applications is helpful\, but not required. \n\n\n\nCourse Objective\nUpon successful completion of this course\, students will be able to: \n\nCreate and deliver professional-looking printed and digital documents\nIdentify the elements of the InDesign interface.\nCreate a new document.\nCustomize a document by using graphics\, colors\, and styles.\nManage page elements.\nBuild a table.\nPrepare a document for delivery
URL:https://benhalsall.com/event/indesign-cs6-level-1-2nd-3rd-november-2016/
LOCATION:Downtown Regina\, Regina\, Canada
CATEGORIES:Adobe InDesign
ATTACH;FMTTYPE=image/jpeg:https://benhalsall.com/wp-content/uploads/2016/09/indesign-level-01.jpg
ORGANIZER;CN="Ben Halsall":MAILTO:design@benhalsall.com
END:VEVENT
BEGIN:VEVENT
DTSTART;VALUE=DATE:20161104
DTEND;VALUE=DATE:20161105
DTSTAMP:20260423T112720
CREATED:20160927T185518Z
LAST-MODIFIED:20161010T172338Z
UID:2993-1478217600-1478303999@benhalsall.com
SUMMARY:InDesign CS6 Level 2 Course - November 4th 2016
DESCRIPTION:Course Description\n\n\n\nIn this course\, you will learn advanced InDesign techniques to enhance the look and functionality of your documents. \nPre-requisites\nAdobe® InDesign® CS6: Level 1\, or have the equivalent knowledge. \nCourse Objective\n\n\n\nYou can create interactive documents and export them for viewing in a web browser with various features such as buttons\, page transitions\, movies and audio files\, hyperlinks and animation. You have the ability to assign color profiles and establish print presets. In creating longer documents\, you’ll be able to include such features as a table of contents\, footnotes\, cross-references and an index.
URL:https://benhalsall.com/event/indesign-cs6-level-2-course-november-4th-2016-regina-yqr-sask/
LOCATION:Downtown Regina\, Regina\, Canada
CATEGORIES:Adobe InDesign
ATTACH;FMTTYPE=image/jpeg:https://benhalsall.com/wp-content/uploads/2016/09/indesign-level-02.jpg
ORGANIZER;CN="Ben Halsall":MAILTO:design@benhalsall.com
END:VEVENT
BEGIN:VEVENT
DTSTART;VALUE=DATE:20161102
DTEND;VALUE=DATE:20161104
DTSTAMP:20260423T112720
CREATED:20160926T184912Z
LAST-MODIFIED:20161010T172601Z
UID:2991-1478044800-1478217599@benhalsall.com
SUMMARY:InDesign CS6 Level 1 - 2nd & 3rd November 2016
DESCRIPTION:Course Description\nIn this course\, you will work with the tools and features to create eye-catching printed documents using InDesign CS6. \nPre-requisites\n\n\n\nBefore taking this course\, students should be familiar with the functions of their computer’s operating system such as creating folders\, launching programs\, copying and pasting objects\, formatting text\, and retrieving and saving files. Familiarity with other Adobe software applications is helpful\, but not required. \n\n\n\nCourse Objective\nUpon successful completion of this course\, students will be able to: \n\nCreate and deliver professional-looking printed and digital documents\nIdentify the elements of the InDesign interface.\nCreate a new document.\nCustomize a document by using graphics\, colors\, and styles.\nManage page elements.\nBuild a table.\nPrepare a document for delivery
URL:https://benhalsall.com/event/indesign-cs6-level-1-november-2016/
LOCATION:Downtown Regina\, Regina\, Canada
CATEGORIES:Adobe InDesign
ATTACH;FMTTYPE=image/jpeg:https://benhalsall.com/wp-content/uploads/2016/09/indesign-level-01.jpg
ORGANIZER;CN="Ben Halsall":MAILTO:design@benhalsall.com
END:VEVENT
BEGIN:VEVENT
DTSTART;TZID=America/Chicago:20160916T083000
DTEND;TZID=America/Chicago:20160916T163000
DTSTAMP:20260423T112720
CREATED:20160724T163955Z
LAST-MODIFIED:20160724T165259Z
UID:2824-1474014600-1474043400@benhalsall.com
SUMMARY:InDesign CS6 Level 2
DESCRIPTION:Course Description\n\n\n\nIn this course\, you will learn advanced InDesign techniques to enhance the look and functionality of your documents. \nPre-requisites\nAdobe® InDesign® CS6: Level 1\, or have the equivalent knowledge. \nCourse Objective\n\n\n\nYou can create interactive documents and export them for viewing in a web browser with various features such as buttons\, page transitions\, movies and audio files\, hyperlinks and animation. You have the ability to assign color profiles and establish print presets. In creating longer documents\, you’ll be able to include such features as a table of contents\, footnotes\, cross-references and an index.
URL:https://benhalsall.com/event/indesign-cs6-level-2/
LOCATION:Downtown Regina\, Regina\, Canada
CATEGORIES:Adobe Creative Suite,Adobe InDesign
END:VEVENT
BEGIN:VEVENT
DTSTART;TZID=America/Chicago:20160914T083000
DTEND;TZID=America/Chicago:20160915T163000
DTSTAMP:20260423T112720
CREATED:20160724T163704Z
LAST-MODIFIED:20160724T163704Z
UID:2823-1473841800-1473957000@benhalsall.com
SUMMARY:InDesign CS6 Level 1
DESCRIPTION:Course Description\nIn this course\, you will work with the tools and features to create eye-catching printed documents using InDesign CS6. \nPre-requisites\n\n\n\nBefore taking this course\, students should be familiar with the functions of their computer’s operating system such as creating folders\, launching programs\, copying and pasting objects\, formatting text\, and retrieving and saving files. Familiarity with other Adobe software applications is helpful\, but not required. \n\n\n\nCourse Objective\nUpon successful completion of this course\, students will be able to: \n\nCreate and deliver professional-looking printed and digital documents\nIdentify the elements of the InDesign interface.\nCreate a new document.\nCustomize a document by using graphics\, colors\, and styles.\nManage page elements.\nBuild a table.\nPrepare a document for delivery
URL:https://benhalsall.com/event/indesign-cs6-level-1/
LOCATION:Downtown Regina\, Regina\, Canada
CATEGORIES:Adobe Acrobat Pro,Adobe InDesign
END:VEVENT
END:VCALENDAR