BEGIN:VCALENDAR
VERSION:2.0
PRODID:-//Ben Halsall - ECPv6.15.20//NONSGML v1.0//EN
CALSCALE:GREGORIAN
METHOD:PUBLISH
X-ORIGINAL-URL:https://benhalsall.com
X-WR-CALDESC:Events for Ben Halsall
REFRESH-INTERVAL;VALUE=DURATION:PT1H
X-Robots-Tag:noindex
X-PUBLISHED-TTL:PT1H
BEGIN:VTIMEZONE
TZID:America/Chicago
BEGIN:DAYLIGHT
TZOFFSETFROM:-0600
TZOFFSETTO:-0500
TZNAME:CDT
DTSTART:20140309T080000
END:DAYLIGHT
BEGIN:STANDARD
TZOFFSETFROM:-0500
TZOFFSETTO:-0600
TZNAME:CST
DTSTART:20141102T070000
END:STANDARD
BEGIN:DAYLIGHT
TZOFFSETFROM:-0600
TZOFFSETTO:-0500
TZNAME:CDT
DTSTART:20150308T080000
END:DAYLIGHT
BEGIN:STANDARD
TZOFFSETFROM:-0500
TZOFFSETTO:-0600
TZNAME:CST
DTSTART:20151101T070000
END:STANDARD
BEGIN:DAYLIGHT
TZOFFSETFROM:-0600
TZOFFSETTO:-0500
TZNAME:CDT
DTSTART:20160313T080000
END:DAYLIGHT
BEGIN:STANDARD
TZOFFSETFROM:-0500
TZOFFSETTO:-0600
TZNAME:CST
DTSTART:20161106T070000
END:STANDARD
BEGIN:DAYLIGHT
TZOFFSETFROM:-0600
TZOFFSETTO:-0500
TZNAME:CDT
DTSTART:20170312T080000
END:DAYLIGHT
BEGIN:STANDARD
TZOFFSETFROM:-0500
TZOFFSETTO:-0600
TZNAME:CST
DTSTART:20171105T070000
END:STANDARD
END:VTIMEZONE
BEGIN:VEVENT
DTSTART;TZID=America/Chicago:20160907T083000
DTEND;TZID=America/Chicago:20160907T163000
DTSTAMP:20260423T144644
CREATED:20160724T165423Z
LAST-MODIFIED:20160724T165423Z
UID:2825-1473237000-1473265800@benhalsall.com
SUMMARY:Illustrator CS6 Level 1
DESCRIPTION:You will use Adobe Illustrator CS6 to create complex and attractive designs with type effects for illustrations\, logos\, advertisement and other graphic documents. \n\n\n\nUpon successful completion of this course\, students will be able to: \n\nIdentify the components and capabilities of Illustrator CS6.\nCreate basic shapes.\nCreate custom paths.\nCreate graphics that contain custom text.\nCustomize objects.\nCustomize basic shapes.\nPrepare documents for deployment
URL:https://benhalsall.com/event/illustrator-cs6-level-1-2/
CATEGORIES:Adobe Creative Suite,Adobe Illustrator
END:VEVENT
BEGIN:VEVENT
DTSTART;TZID=America/Chicago:20160706T083000
DTEND;TZID=America/Chicago:20160706T160000
DTSTAMP:20260423T144644
CREATED:20160528T032742Z
LAST-MODIFIED:20160528T032742Z
UID:2568-1467793800-1467820800@benhalsall.com
SUMMARY:Illustrator CS6 Level 1
DESCRIPTION:You will use Adobe Illustrator CS6 to create complex and attractive designs with type effects for illustrations\, logos\, advertisement and other graphic documents. \n\n\n\nUpon successful completion of this course\, students will be able to: \n\nIdentify the components and capabilities of Illustrator CS6.\nCreate basic shapes.\nCreate custom paths.\nCreate graphics that contain custom text.\nCustomize objects.\nCustomize basic shapes.\nPrepare documents for deployment
URL:https://benhalsall.com/event/illustrator-cs6-level-1/
LOCATION:Downtown Regina\, Regina\, Canada
CATEGORIES:Adobe Creative Suite,Adobe Illustrator
END:VEVENT
BEGIN:VEVENT
DTSTART;VALUE=DATE:20151027
DTEND;VALUE=DATE:20151029
DTSTAMP:20260423T144644
CREATED:20150924T163141Z
LAST-MODIFIED:20150924T163853Z
UID:1210-1445904000-1446076799@benhalsall.com
SUMMARY:Adobe Illustrator: Essentials with Ben Halsall
DESCRIPTION:If you are new to Adobe Illustrator then this instructor led course is for you. With hands-on lessons you will quickly be up and running and ready to create graphics for the web\, print or video projects that you are working on. \nAdobe Illustrator: Essentials introduces the key concepts you will need to work with this vector graphics application. You will learn to create and work with vector shapes\, layers\, colour\, design with type\, and prepare your designs for outputting for the web\, downloadable or print ready PDFs. \nSo whether you are designing a poster\, flyer\, want to create your own logo or need to create awesome designs for your online social media presence on Facebook or Twitter then check out the course outline below. \nAsk me anything about Adobe Illustrator: Essentials or request a quote. \nLocation\, location\, location! \nFind out what people say about working with Ben on the testimonials page. \nCourse Outline\nLesson 1 – Introduction to the Interface \nLesson 2 – Creating Vector Lines & Shapes \nLesson 3 – Changing Colours & Working with Gradients \nLesson 4 – Making Selections\, Copying and Moving Shapes \nLesson 5 – Resizing and Rotating Shapes \nLesson 6 – Creating Custom Shapes Using the Pen Tool \nLesson 7 – Combining\, Manipulating & Editing Shapes \nLesson 8 – Groups & Layers \nLesson 9 – Working with Type in Your Designs \nLesson 10 – Creating Clean Layouts and Designs by Using Rulers & Guides \nLesson 11 – Advanced Colour & Gradient Fills \nLesson 12 – Placing Photographic Images Inside Designs \nLesson 13 – Print Essentials – Creating & Preparing Designs for Print Output \nLesson 14 – Preparing and Outputting Images for the Web & Social Media \nLesson 15 – Working with and Creating PDFs \nLesson 16 – Backing Up & Saving Your Projects \nLocation\, location\, location.\nThis course can be delivered in-house\, online or a venue can be arranged that works for your business. \nI am primarily based in Regina\, Saskatchewan but am able to deliver courses anywhere across Canada. \nRequest a course\, location & dates >> \nAsk Me Anything About Photoshop One: Core Skills\nYou can send me an e-mail at design@benhalsall.com or use the form below. I look forward to hearing from you. \n\n\n  \n\n\n\nGet in touch\n\nYour Name\n\n\n \nYour Email\n\n\n \nYour Location\n\nWherever you are I am happy to provide a quote. I am based in Kelowna but can easily provide a quote for classes across Canada. Over the past few years I have taught in-house classes in Ottawa\, Regina\, Vancouver\, Calgary & Montréal.\n \n\n \nYour Phone Number\n\nOften its quicker to answer your questions about training & other projects over the phone.\n \n\n \nWhat would you like to ask me about?\n\nPlease SelectPhotoshop TrainingInDesign TrainingPremiere Pro TrainingFinal Cut Pro X TrainingIn House TrainingScheduled ClassesVideo EditingVideo ProductionSomething else...\n \nSign up to for course info & schedule.\n\nSign Me UpNo Thanks\n \nYour Message
URL:https://benhalsall.com/event/adobe-illustrator-essentials-with-ben-halsall-yqr-computertraining-softwaretraining-adobeillustrator/
LOCATION:Mobile Training Centre\, Regina\, Saskatchewan\, Canada
CATEGORIES:Adobe Creative Suite,Adobe Illustrator
ATTACH;FMTTYPE=image/jpeg:https://benhalsall.com/wp-content/uploads/2015/07/adobe-illustrator-essentials.jpg
ORGANIZER;CN="Ben Halsall":MAILTO:design@benhalsall.com
END:VEVENT
END:VCALENDAR