BEGIN:VCALENDAR
VERSION:2.0
PRODID:-//Ben Halsall - ECPv6.15.20//NONSGML v1.0//EN
CALSCALE:GREGORIAN
METHOD:PUBLISH
X-ORIGINAL-URL:https://benhalsall.com
X-WR-CALDESC:Events for Ben Halsall
REFRESH-INTERVAL;VALUE=DURATION:PT1H
X-Robots-Tag:noindex
X-PUBLISHED-TTL:PT1H
BEGIN:VTIMEZONE
TZID:America/Chicago
BEGIN:DAYLIGHT
TZOFFSETFROM:-0600
TZOFFSETTO:-0500
TZNAME:CDT
DTSTART:20150308T080000
END:DAYLIGHT
BEGIN:STANDARD
TZOFFSETFROM:-0500
TZOFFSETTO:-0600
TZNAME:CST
DTSTART:20151101T070000
END:STANDARD
BEGIN:DAYLIGHT
TZOFFSETFROM:-0600
TZOFFSETTO:-0500
TZNAME:CDT
DTSTART:20160313T080000
END:DAYLIGHT
BEGIN:STANDARD
TZOFFSETFROM:-0500
TZOFFSETTO:-0600
TZNAME:CST
DTSTART:20161106T070000
END:STANDARD
BEGIN:DAYLIGHT
TZOFFSETFROM:-0600
TZOFFSETTO:-0500
TZNAME:CDT
DTSTART:20170312T080000
END:DAYLIGHT
BEGIN:STANDARD
TZOFFSETFROM:-0500
TZOFFSETTO:-0600
TZNAME:CST
DTSTART:20171105T070000
END:STANDARD
BEGIN:DAYLIGHT
TZOFFSETFROM:-0600
TZOFFSETTO:-0500
TZNAME:CDT
DTSTART:20180311T080000
END:DAYLIGHT
BEGIN:STANDARD
TZOFFSETFROM:-0500
TZOFFSETTO:-0600
TZNAME:CST
DTSTART:20181104T070000
END:STANDARD
END:VTIMEZONE
BEGIN:VEVENT
DTSTART;VALUE=DATE:20170424
DTEND;VALUE=DATE:20170425
DTSTAMP:20260423T142848
CREATED:20170128T220103Z
LAST-MODIFIED:20170128T221933Z
UID:3584-1492992000-1493078399@benhalsall.com
SUMMARY:Acrobat X/XI Level 1
DESCRIPTION:COURSE DESCRIPTION\nIn this course\, you will use Adobe Acrobat Pro to make your information more portable\, accessible\, and useful to meet the needs of your target audience. \nPREREQUISITES\nExperience with computers and common Microsoft applications\, such as word processing\, spreadsheet\, and web browser applications. \nCOURSE OBJECTIVE\nUpon successful completion of this course\, students will be able to: \n\nAccess information in a PDF document.\nCreate PDF documents.\nNavigate to specific content in a PDF document.\nModify PDF documents.\nWork with multiple PDF documents.\nReview a PDF document.\nValidate a PDF document.\nOptimize and convert PDF documents to other formats\nSet the scanner preferences and scan a document
URL:https://benhalsall.com/event/acrobat-xxi-level-1-4/
CATEGORIES:Adobe Acrobat Pro
END:VEVENT
BEGIN:VEVENT
DTSTART;VALUE=DATE:20170328
DTEND;VALUE=DATE:20170329
DTSTAMP:20260423T142848
CREATED:20170128T222220Z
LAST-MODIFIED:20170128T222252Z
UID:3587-1490659200-1490745599@benhalsall.com
SUMMARY:Acrobat X/XI Level 2
DESCRIPTION:COURSE DESCRIPTION\nThis course is for students who are office professionals with a foundational understanding of Adobe Acrobat Pro XI who want to use the advanced productivity features and the creative features of Acrobat XI Pro. \nPREREQUISITES\nTo ensure your success in your course you should be comfortable using the basic features of Acrobat XI Pro. \nCOURSE OBJECTIVE\nUpon successful completion of this course\, students will be able to: \n\nCustomize the toolbars.\nCreate PDF document using AutoCAD\nEnhance PDF documents.\nSecure PDF documents.\nCreate interactive PDF documents.\nFinalize PDF files for printing.
URL:https://benhalsall.com/event/acrobat-xxi-level-2/
CATEGORIES:Adobe Acrobat Pro
END:VEVENT
BEGIN:VEVENT
DTSTART;VALUE=DATE:20170302
DTEND;VALUE=DATE:20170303
DTSTAMP:20260423T142848
CREATED:20170128T215911Z
LAST-MODIFIED:20170128T215911Z
UID:3582-1488412800-1488499199@benhalsall.com
SUMMARY:Acrobat X/XI Level 1
DESCRIPTION:COURSE DESCRIPTION\nIn this course\, you will use Adobe Acrobat Pro to make your information more portable\, accessible\, and useful to meet the needs of your target audience. \nPREREQUISITES\nExperience with computers and common Microsoft applications\, such as word processing\, spreadsheet\, and web browser applications. \nCOURSE OBJECTIVE\nUpon successful completion of this course\, students will be able to: \n\nAccess information in a PDF document.\nCreate PDF documents.\nNavigate to specific content in a PDF document.\nModify PDF documents.\nWork with multiple PDF documents.\nReview a PDF document.\nValidate a PDF document.\nOptimize and convert PDF documents to other formats\nSet the scanner preferences and scan a document
URL:https://benhalsall.com/event/acrobat-xxi-level-1-3/
CATEGORIES:Adobe Acrobat Pro
END:VEVENT
BEGIN:VEVENT
DTSTART;VALUE=DATE:20170209
DTEND;VALUE=DATE:20170210
DTSTAMP:20260423T142848
CREATED:20170128T222258Z
LAST-MODIFIED:20170128T222258Z
UID:3586-1486598400-1486684799@benhalsall.com
SUMMARY:Acrobat X/XI Level 2
DESCRIPTION:COURSE DESCRIPTION\nThis course is for students who are office professionals with a foundational understanding of Adobe Acrobat Pro XI who want to use the advanced productivity features and the creative features of Acrobat XI Pro. \nPREREQUISITES\nTo ensure your success in your course you should be comfortable using the basic features of Acrobat XI Pro. \nCOURSE OBJECTIVE\nUpon successful completion of this course\, students will be able to: \n\nCustomize the toolbars.\nCreate PDF document using AutoCAD\nEnhance PDF documents.\nSecure PDF documents.\nCreate interactive PDF documents.\nFinalize PDF files for printing.
URL:https://benhalsall.com/event/acrobat-xxi-level-2-2/
CATEGORIES:Adobe Acrobat Pro
END:VEVENT
BEGIN:VEVENT
DTSTART;TZID=America/Chicago:20170117T083000
DTEND;TZID=America/Chicago:20170117T160000
DTSTAMP:20260423T142848
CREATED:20170109T060704Z
LAST-MODIFIED:20170109T062035Z
UID:3453-1484641800-1484668800@benhalsall.com
SUMMARY:Custom Adobe Acrobat Pro DC Training
DESCRIPTION:If you are interested in custom training for any of the classes that I teach then just get in touch. \nI’m always happy to discuss adaptions\, customised training or classes that blend more than one application. \nI look forward to hearing from you.
URL:https://benhalsall.com/event/custom-adobe-acrobat-pro-dc-training/
LOCATION:Downtown Regina\, Regina\, Canada
CATEGORIES:Adobe Acrobat Pro
ATTACH;FMTTYPE=image/jpeg:https://benhalsall.com/wp-content/uploads/2017/01/acrobat-dc.jpg
END:VEVENT
BEGIN:VEVENT
DTSTART;TZID=America/Chicago:20160914T083000
DTEND;TZID=America/Chicago:20160915T163000
DTSTAMP:20260423T142848
CREATED:20160724T163704Z
LAST-MODIFIED:20160724T163704Z
UID:2823-1473841800-1473957000@benhalsall.com
SUMMARY:InDesign CS6 Level 1
DESCRIPTION:Course Description\nIn this course\, you will work with the tools and features to create eye-catching printed documents using InDesign CS6. \nPre-requisites\n\n\n\nBefore taking this course\, students should be familiar with the functions of their computer’s operating system such as creating folders\, launching programs\, copying and pasting objects\, formatting text\, and retrieving and saving files. Familiarity with other Adobe software applications is helpful\, but not required. \n\n\n\nCourse Objective\nUpon successful completion of this course\, students will be able to: \n\nCreate and deliver professional-looking printed and digital documents\nIdentify the elements of the InDesign interface.\nCreate a new document.\nCustomize a document by using graphics\, colors\, and styles.\nManage page elements.\nBuild a table.\nPrepare a document for delivery
URL:https://benhalsall.com/event/indesign-cs6-level-1/
LOCATION:Downtown Regina\, Regina\, Canada
CATEGORIES:Adobe Acrobat Pro,Adobe InDesign
END:VEVENT
BEGIN:VEVENT
DTSTART;TZID=America/Chicago:20160913T083000
DTEND;TZID=America/Chicago:20160913T163000
DTSTAMP:20260423T142848
CREATED:20160724T160843Z
LAST-MODIFIED:20160724T160843Z
UID:2814-1473755400-1473784200@benhalsall.com
SUMMARY:Acrobat X/XI Level 2 - Regina
DESCRIPTION:This course is for students who are office professionals with a foundational understanding of Adobe Acrobat Pro XI who want to use the advanced productivity features and the creative features of Acrobat XI Pro. \n\n\n\nUpon successful completion of this course\, students will be able to: \n\nCustomize the toolbars.\nCreate PDF document using AutoCAD\nEnhance PDF documents.\nSecure PDF documents.\nCreate interactive PDF documents.\nFinalize PDF files for printing.
URL:https://benhalsall.com/event/acrobat-xxi-level-2-regina/
LOCATION:Downtown Regina\, Regina\, Canada
CATEGORIES:Adobe Acrobat Pro,Adobe Creative Suite
END:VEVENT
END:VCALENDAR